BEGIN:VCALENDAR
VERSION:2.0
PRODID:-//American Sleep and Breathing Academy - ECPv6.10.2//NONSGML v1.0//EN
CALSCALE:GREGORIAN
METHOD:PUBLISH
X-WR-CALNAME:American Sleep and Breathing Academy
X-ORIGINAL-URL:https://asba.net
X-WR-CALDESC:Events for American Sleep and Breathing Academy
REFRESH-INTERVAL;VALUE=DURATION:PT1H
X-Robots-Tag:noindex
X-PUBLISHED-TTL:PT1H
BEGIN:VTIMEZONE
TZID:America/Phoenix
BEGIN:STANDARD
TZOFFSETFROM:-0700
TZOFFSETTO:-0700
TZNAME:MST
DTSTART:20250101T000000
END:STANDARD
END:VTIMEZONE
BEGIN:VEVENT
DTSTART;TZID=America/Phoenix:20251121T080000
DTEND;TZID=America/Phoenix:20251122T170000
DTSTAMP:20260423T100058
CREATED:20250722T230211Z
LAST-MODIFIED:20251031T205404Z
UID:4027-1763712000-1763830800@asba.net
SUMMARY:Do Sleep RIGHT and Diplomate Review with "Apnea Destroyer" Dr. Jerry Hu
DESCRIPTION:Overview \nDental sleep medicine is one of the fastest-growing fields in dentistry\, but it has also been a source of frustration for many dentists. After investing in courses and equipment\, many are left without a clear strategy for integrating dental sleep services into their practice\, leading to unmet expectations. \nSleep apnea affects an estimated one billion people worldwide\, though only one in five cases is diagnosed. The dental office is often the first place where a detailed examination of the oropharyngeal airway occurs. In 2017\, the American Dental Association recognized the essential role of dental offices in identifying and managing sleep apnea\, recommending comprehensive evaluations of airway anatomy and function as part of routine dental care. \nThis official American Sleep and Breathing Academy "ASBA" course provides a turnkey introduction for dental practitioners to incorporate sleep dentistry into their practice. \nRegister for the: Intro To Dental Sleep Medicine For Dental Doctors And Team Members Course \n\nASBA Courses and Instructors\nAmerican Sleep and Breathing Academy “ASBA” courses are redefining successful weekend courses in dental sleep medicine. ASBA courses are led by hugely experienced ASBA Diplomates (D'ASBA)\, focusing on equipping attendees with the necessary skills to integrate sleep apnea dentistry into their practice. A key distinction lies in the Academy's policy: it prohibits vendor-specific presentations unless they include competitive or comparable products. This approach fosters open discussions on clinical best practices and revenue enhancement models\, promoting a comprehensive understanding among participants. \n\nASBA Diplomates\nEach Diplomate instructor also presents their personal strategic plan\, and shares the key decision points that make or break a new practice. This helps attendees test their understanding of the standard of practice employed by the ASBA Diplomate through open discussion. \n\nReal World Practices\nEach of the Diplomate Presenters have successful robust sleep practices in excess of $1.5M annually\, no two are the same\, each course will have minimum of 3 D'ASBA presenters. There is a tremendous amount of personalized advice and specific step-by-step instructions to aid course attendees in achieving success with their fledging sleep business. \n“Training Sleep Apnea Dentistry has become rife with folks overstating their abilities and experience. Selling substandard equipment at inflated prices to an unsuspecting group of clinicians who simply want to treat their patients.”\nDavid Gergen\, ASBA \n“This past weekend more than half of the attendees had attended more than one vendor sponsored seminar in the last year. As a group none of the attendees had managed to achieve any traction with sleep apnea dentistry in their practice.” Rudi Ferrate\, ASBA \nASBA courses are more than a series of presentations. The Academy is your ally that helps our members build their practice using our proven methods. All courses are taught by the most successful Dentists who have built sleep practices with annual revenue over $1.5 MM. \nASBA courses are unique\, affordable\, and designed to give you the tools to preform at the level of the mentors. Many past participants have left many of our courses saying that it was the most vital\, essential & powerful dental sleep learning event they’ve ever attended! \nCOURSE OBJECTIVES \n\nProper Protocol for Case Evaluation.\nHow to screen your patients\nOrder a sleep test\nHow to read a sleep test\nWhen an MD’s authorization is required to make certain appliances\nGather intake information for insurance\nHow to bill the insurance\nHow to maximize your profit with proper protocol required by insurance companies\nCase Selection once the patient has been identified having sleep apnea\nTeaching you how to select the correct appliance for the patient\nWhen to use a mandibular advancer\nWhen to use a function appliance\nWhen to use a vertical appliance\n\nThe Intro Course is suited for practices starting with sleep apnea treatment and practices that have yet to achieve their potential. We feature Doctors from a wide range of markets\, from 100\,000 to 6.5M population\, who will share insight with you on they grew their dental sleep practice. Hear accounts from real ASBA members who have been in the same position you were a few years ago! \nLearn from their successes at the next ASBA Intro To Dental Sleep Medicine Course! \nRegister for the: Intro To Dental Sleep Medicine For Dental Doctors And Team Members Course
URL:https://asba.net/event/do-sleep-right-with-apnea-destroyer-dr-jerry-hu/
LOCATION:Hilton Phoenix Airport\, 2435 S 47th St\, Phoenix\, AZ\, 85034\, United States
ATTACH;FMTTYPE=image/jpeg:https://asba.net/wp-content/uploads/2024/05/CrashCourseImage.jpg
ORGANIZER;CN="American Sleep and Breathing Academy":MAILTO:gxployer@aol.com
END:VEVENT
END:VCALENDAR