BEGIN:VCALENDAR
VERSION:2.0
PRODID:-//American Sleep and Breathing Academy - ECPv6.10.2//NONSGML v1.0//EN
CALSCALE:GREGORIAN
METHOD:PUBLISH
X-WR-CALNAME:American Sleep and Breathing Academy
X-ORIGINAL-URL:https://asba.net
X-WR-CALDESC:Events for American Sleep and Breathing Academy
REFRESH-INTERVAL;VALUE=DURATION:PT1H
X-Robots-Tag:noindex
X-PUBLISHED-TTL:PT1H
BEGIN:VTIMEZONE
TZID:UTC
BEGIN:STANDARD
TZOFFSETFROM:+0000
TZOFFSETTO:+0000
TZNAME:UTC
DTSTART:20260101T000000
END:STANDARD
END:VTIMEZONE
BEGIN:VTIMEZONE
TZID:America/Los_Angeles
BEGIN:DAYLIGHT
TZOFFSETFROM:-0800
TZOFFSETTO:-0700
TZNAME:PDT
DTSTART:20260308T100000
END:DAYLIGHT
BEGIN:STANDARD
TZOFFSETFROM:-0700
TZOFFSETTO:-0800
TZNAME:PST
DTSTART:20261101T090000
END:STANDARD
END:VTIMEZONE
BEGIN:VEVENT
DTSTART;TZID=UTC:20260227T083000
DTEND;TZID=UTC:20260227T173000
DTSTAMP:20260424T033555
CREATED:20251215T211729Z
LAST-MODIFIED:20260227T224039Z
UID:4583-1772181000-1772213400@asba.net
SUMMARY:The Future of Clear Aligners: CBCT + 3D Scans with Dr. Francisco Eraso
DESCRIPTION:Redefine aligner therapy with cutting-edge imaging workflows.\nLearn how to integrate CBCT and 3D scans for safer\, more predictable outcomes — and receive your first case review free. \nJoin Dr. Francisco Eraso on Feb 27th for an exclusive one-day workshop\, “G-Force Aligners by Dr. Francisco Eraso\,” where you’ll gain direct access to his pioneering software that blends 3D scans with CBCT imaging for more precise and safe aligner therapy. \nHurry — only 12 spots available. \nWhy attend?\n\nLearn from Dr. Eraso’s dual expertise in orthodontics and oral & maxillofacial radiology\, supported by extensive academic training and journal involvement.\nSee how AI and CBCT imaging can redefine case planning through Dr. Eraso’s cutting-edge workflows.\nAfter the course\, submit your first case to Dr. Eraso at no additional cost for personalized feedback.\n\nLimited seating: Secure your spot today and start transforming how you design aligner cases—with precision\, confidence\, and innovation. \n\nRegister for the Course\n \nAcademic Credentials & Professional Roles\nDr. Eraso is a certified Orthodontist and Oral & Maxillofacial Radiologist. He earned his DDS from Pontificia Universidad Javeriana (Bogotá\, Colombia)\, completed an advanced standing dental degree at Indiana University School of Dentistry\, obtained his M.S. in Oral Biology from the University of Louisville\, an M.S. and Certificate in Oral & Maxillofacial Radiology from UNC Chapel Hill\, and an Orthodontic Certificate and M.S.D. from Indiana University. \nIndustry Contributions & Thought Leadership\nDr. Eraso is an active reviewer for top journals including American Journal of Orthodontics and Dentofacial Orthopedics\, Angle Orthodontist\, Journal of Oral Surgery\, Oral Medicine\, Oral Pathology\, Oral Radiology & Endodontics\, and Journal of Dentomaxillofacial Radiology \nHis professional affiliations include: \n\nAmerican Dental Association\nAmerican Association of Orthodontists\nAmerican Academy of Oral and Maxillofacial Radiology\nInternational Association of Dentomaxillofacial Radiology\n\nSpecial Interests & Educational Impact\nHis key areas of interest span digital orthodontics\, 3D reconstruction\, imaging and advanced imaging for orthodontics (including TMJ and airways)\, teleradiology\, and community outreach. \nJoin us on February 27th\, 2026\nHealing Dentistry (Marija Mitic\, DDS)\n125 W McDowell Rd Suite B\nPhoenix\, AZ 85003\nPhone: (602) 273-0013 \n\nRegister for the Course
URL:https://asba.net/event/the-future-of-clear-aligners-cbct-3d-scans-with-dr-francisco-eraso/
LOCATION:Healing Dentistry\, 125 W McDowell Rd Suite B\, Phoenix\, Arizona\, 85003\, United States
ORGANIZER;CN="American Sleep and Breathing Academy":MAILTO:gxployer@aol.com
END:VEVENT
BEGIN:VEVENT
DTSTART;VALUE=DATE:20260301
DTEND;VALUE=DATE:20260302
DTSTAMP:20260424T033555
CREATED:20260407T221821Z
LAST-MODIFIED:20260407T221821Z
UID:5020-1772323200-1772409599@asba.net
SUMMARY:Magazine Feature
DESCRIPTION:Please enable JavaScript in your browser to complete this form.Name *FirstLastCompany NameEmail *Phone *Address *Address Line 1Address Line 2City--- Select state ---AlabamaAlaskaArizonaArkansasCaliforniaColoradoConnecticutDelawareDistrict of ColumbiaFloridaGeorgiaHawaiiIdahoIllinoisIndianaIowaKansasKentuckyLouisianaMaineMarylandMassachusettsMichiganMinnesotaMississippiMissouriMontanaNebraskaNevadaNew HampshireNew JerseyNew MexicoNew YorkNorth CarolinaNorth DakotaOhioOklahomaOregonPennsylvaniaRhode IslandSouth CarolinaSouth DakotaTennesseeTexasUtahVermontVirginiaWashingtonWest VirginiaWisconsinWyomingStateZip CodeMemoRegistration Price *Price: $1\,700.00Total Amount$0.00Credit Card *CardName on CardCoupon\n				\n					\n				\n				Apply\n			\n			Submit
URL:https://asba.net/event/magazine-feature/
LOCATION:AZ
CATEGORIES:Sleep and Wellness Conference
ATTACH;FMTTYPE=image/jpeg:https://asba.net/wp-content/uploads/2025/08/2026ConferenceHero.jpg
ORGANIZER;CN="American Sleep and Breathing Academy":MAILTO:gxployer@aol.com
END:VEVENT
BEGIN:VEVENT
DTSTART;VALUE=DATE:20260423
DTEND;VALUE=DATE:20260426
DTSTAMP:20260424T033555
CREATED:20260421T175105Z
LAST-MODIFIED:20260421T175105Z
UID:5027-1776902400-1777161599@asba.net
SUMMARY:Conference Sponsorship - Double
DESCRIPTION:Please enable JavaScript in your browser to complete this form.Name *FirstLastCompany NameEmail *Phone *Address *Address Line 1Address Line 2City--- Select state ---AlabamaAlaskaArizonaArkansasCaliforniaColoradoConnecticutDelawareDistrict of ColumbiaFloridaGeorgiaHawaiiIdahoIllinoisIndianaIowaKansasKentuckyLouisianaMaineMarylandMassachusettsMichiganMinnesotaMississippiMissouriMontanaNebraskaNevadaNew HampshireNew JerseyNew MexicoNew YorkNorth CarolinaNorth DakotaOhioOklahomaOregonPennsylvaniaRhode IslandSouth CarolinaSouth DakotaTennesseeTexasUtahVermontVirginiaWashingtonWest VirginiaWisconsinWyomingStateZip CodeMemoRegistration Price *Price: $1\,700.00Total Amount$0.00Credit Card *CardName on CardCoupon\n				\n					\n				\n				Apply\n			\n			Submit
URL:https://asba.net/event/conference-sponsorship-double/
LOCATION:Embassy Suites by Hilton Scottsdale Resort\, 5001 N Scottsdale Rd\, Scottsdale\, AZ\, 85250\, United States
CATEGORIES:Sleep and Wellness Conference
ATTACH;FMTTYPE=image/jpeg:https://asba.net/wp-content/uploads/2025/08/2026ConferenceHero.jpg
ORGANIZER;CN="American Sleep and Breathing Academy":MAILTO:gxployer@aol.com
END:VEVENT
BEGIN:VEVENT
DTSTART;TZID=UTC:20260423T080000
DTEND;TZID=UTC:20260423T173000
DTSTAMP:20260424T033556
CREATED:20250820T004753Z
LAST-MODIFIED:20260306T164953Z
UID:4221-1776931200-1776965400@asba.net
SUMMARY:First Global Pediatric Sleep Symposium Organized by Toshi Hart
DESCRIPTION:GUEST SPEAKERS:\nDr. La Juan Hall - Pediatric Dentist \nDr. Manisha Witmans - Pediatrician\, Pulmonologist\, Sleep Medicine\, Professor \nDr. Felix Liao - Dentist\, Author\, Epigenetics Specialist \nNerissa Boggan - Myofunctional Therapist & Dental Hygienist \nDr. Anthony Bolamperti -  Airway & Laser Dentistry \nPatrick McKeown - Sleep Disordered Breathing Specialist in Buteyko Breathing Method \nDr. Jonelle Crichton - Orthodontics and Dentofacial Orthopedics \nDr. Toshi Hart - Laser\, Airway\, Sleep Dentist \nDr. Diana Batoon - Sleep\, Airway & Craniofacial Dentist \n  \nAGENDA: \n\nINTRODUCTION & KEYNOTE SPEAKER: Dr. La Juan Hall - 8:00am-8:30am\nPEDIATRIC SLEEP & PHYSIOLOGY: Dr. Manisha Witmans - 8:30am-9:30am\nEPIGENETICS FOR PEDIATRIC AIRWAY FACIAL GROWTH: Dr. Felix Liao - 9:30am-10:30am\nBREAK - 10:30am-10:45am\nMYOFUNCTIONAL THERAPY: Nerissa Boggan BSDH\, CertBBM\, AOMT-C - 10:45am-11:45am\nTETHERED ORAL TISSUES: Dr. Anthony Bolamperti - 11:45am-12:45pm\nLUNCH  - 12:45pm-1:45pm\nPEDIATRIC BREATHWORK: BUTEYKO: Patrick McKeown - 1:45pm-2:45pm\nPEDIATRIC AIRWAY ORTHODONTICS: Dr. Jonelle Crichton - 2:45pm-3:45pm\nBREAK - 3:45pm-4:00pm\nMARKETING/SCREENING/IMPLEMENTATION: Dr. Mark Levi - 4:00pm-4:45pm\nCASE PRESENTATIONS & PEDIATRIC PEARLS: Dr. Toshi Hart & Dr. Diana Batoon - 4:45pm-5:30pm\nEXCLUSIVE PEDO RECEPTION 5:30pm-7:00pm\n\nREGISTER FOR THE COURSE
URL:https://asba.net/event/asba-pediatric-airway-course/
LOCATION:Embassy Suites by Hilton Scottsdale Resort\, 5001 N Scottsdale Rd\, Scottsdale\, AZ\, 85250\, United States
CATEGORIES:Sleep and Wellness Conference
ORGANIZER;CN="American Sleep and Breathing Academy":MAILTO:gxployer@aol.com
END:VEVENT
BEGIN:VEVENT
DTSTART;TZID=America/Los_Angeles:20260423T080000
DTEND;TZID=America/Los_Angeles:20260423T173000
DTSTAMP:20260424T033556
CREATED:20260123T202251Z
LAST-MODIFIED:20260224T090349Z
UID:4674-1776931200-1776965400@asba.net
SUMMARY:Diplomate Review and Test with Dr. John Comisi and Dr. Jerry Hu
DESCRIPTION:Join Dr. John Comisi and Dr. Jerry Hu before ASBA's Annual Sleep & Wellness Conference!\nThursday\, April 23rd at Embassy Suites by Hilton Scottsdale Resort\n8:00am-12:00pm & 2:30pm-5:30pm\n\nThe American Board of Sleep and Breathing (ABSB) is an independent organization that provides a Diplomate designation for American Sleep and Breathing Academy "ASBA" member/doctors who provide evidence of knowledge and skill in the provision of oral appliance therapy for sleep and breathing disorders.\nThe ABSB is a collective of physician and dentist contributors who provide their expertise and experience in developing and applying testing/evaluation of dentists seeking recognition for their education in sleep medicine and their expertise in provision of oral appliance therapy for sleep and breathing disorders.\nThe mission is to provide physician colleagues and the public with knowledgeable and skilled dental practitioners in the field of sleep medicine through the process of Diplomate designation.\n\nREGISTER FOR THE REVIEW COURSE \n  \nDr. John Comisi\, DDS\, MAGD \nDr. Comisi is a graduate of Northwestern University Dental School and practiced general dentistry in Ithaca\, NY\, for nearly 35 years. In August 2017\, he was recruited to join the faculty of the Medical University of South Carolina’s James B. Edwards College of Dental Medicine in Charleston\, SC\, where he served as an Associate Professor of Restorative Dentistry. There\, he created and instituted a unique multidisciplinary elective course in Dental Sleep Medicine that certified more than 200 pre-docs\, residents\, and faculty in this important field. \nHe was recruited and appointed as a Professor in the Department of General Dentistry at the Dental College of Georgia\, Augusta University. He currently serves as the Course Director for Bioclinical Seminar VI—Oral Biology & Diagnostic Sciences. He is collaborating to establish a Sleep Services Committee to integrate dentistry and medicine\, with the goal of better serving the people of Georgia and South Carolina. \nHe has published more than 40 articles\, with over 520 citations since 2020\, and has authored four textbook chapters. \nDr. Comisi is an Emeritus Member and Master of the Academy of General Dentistry and a Diplomate of the American Sleep and Breathing Academy. He is recognized as a Fellow of several prestigious organizations\, including the Academy of Dentistry International\, the American College of Dentists\, the Pierre Fauchard Academy\, and the International College of Dentists. Additionally\, Dr. Comisi served with distinction as President of the South Carolina Dental Association in 2023 and currently serves on the American Dental Association’s Council on Scientific Affairs and its SEAL Subcommittee. \n  \n  \nDr. Jerry Hu\, DDS \nDr. Hu  is dedicated to providing exceptional dentistry in Anchorage and Soldotna. Over the years\, Dr. Hu has attained extensive training at the American Academy of Implant Dentistry\, American Academy of Dental Sleep Medicine\, International Congress of Oral Implantologists\, American Academy of Cosmetic Dentistry\, and at the prestigious Las Vegas Institute for Advanced Dental Studies (LVI). He has earned many Fellowships and Masterships and has published numerous articles with his research in cosmetic dentistry and dental sleep apnea treatment. In 2017\, he became the first full time dentist in Alaska to earn Board certification for Dental Sleep Medicine as a Diplomate of the American Board of Dental Sleep Medicine and the American Sleep and Breathing Academy. \nREGISTER FOR THE REVIEW COURSE
URL:https://asba.net/event/diplomate-review-conference-2026/
LOCATION:Embassy Suites by Hilton Scottsdale Resort\, 5001 N Scottsdale Rd\, Scottsdale\, AZ\, 85250\, United States
ORGANIZER;CN="American Sleep and Breathing Academy":MAILTO:gxployer@aol.com
END:VEVENT
BEGIN:VEVENT
DTSTART;TZID=UTC:20260424T080000
DTEND;TZID=UTC:20260425T170000
DTSTAMP:20260424T033556
CREATED:20250807T190839Z
LAST-MODIFIED:20250807T190839Z
UID:4131-1777017600-1777136400@asba.net
SUMMARY:Sleep and Wellness Conference 2026
DESCRIPTION:Scottsdale\, AZ - Come Join us for the Sleep and Wellness Conference Hosted by the American Sleep and Breathing Academy. This Conference will give you the tools to exceed your financial and therapeutic goals\, increase your expertise and help develop one on one relationships with the most wired leaders in the field.\nhttps://sleep-conference.com
URL:https://asba.net/event/sleep-and-wellness-conference-2026/
LOCATION:Embassy Suites by Hilton Scottsdale Resort\, 5001 N Scottsdale Rd\, Scottsdale\, AZ\, 85250\, United States
CATEGORIES:Sleep and Wellness Conference
ATTACH;FMTTYPE=image/jpeg:https://asba.net/wp-content/uploads/2025/08/2026ConferenceHero.jpg
ORGANIZER;CN="American Sleep and Breathing Academy":MAILTO:gxployer@aol.com
END:VEVENT
END:VCALENDAR